BEGIN:VCALENDAR
VERSION:2.0
PRODID:-//Healing House Energy Spa - ECPv6.15.20//NONSGML v1.0//EN
CALSCALE:GREGORIAN
METHOD:PUBLISH
X-WR-CALNAME:Healing House Energy Spa
X-ORIGINAL-URL:https://healinghouseenergy.com
X-WR-CALDESC:Events for Healing House Energy Spa
REFRESH-INTERVAL;VALUE=DURATION:PT1H
X-Robots-Tag:noindex
X-PUBLISHED-TTL:PT1H
BEGIN:VTIMEZONE
TZID:America/Chicago
BEGIN:DAYLIGHT
TZOFFSETFROM:-0600
TZOFFSETTO:-0500
TZNAME:CDT
DTSTART:20250309T080000
END:DAYLIGHT
BEGIN:STANDARD
TZOFFSETFROM:-0500
TZOFFSETTO:-0600
TZNAME:CST
DTSTART:20251102T070000
END:STANDARD
BEGIN:DAYLIGHT
TZOFFSETFROM:-0600
TZOFFSETTO:-0500
TZNAME:CDT
DTSTART:20260308T080000
END:DAYLIGHT
BEGIN:STANDARD
TZOFFSETFROM:-0500
TZOFFSETTO:-0600
TZNAME:CST
DTSTART:20261101T070000
END:STANDARD
BEGIN:DAYLIGHT
TZOFFSETFROM:-0600
TZOFFSETTO:-0500
TZNAME:CDT
DTSTART:20270314T080000
END:DAYLIGHT
BEGIN:STANDARD
TZOFFSETFROM:-0500
TZOFFSETTO:-0600
TZNAME:CST
DTSTART:20271107T070000
END:STANDARD
END:VTIMEZONE
BEGIN:VTIMEZONE
TZID:UTC
BEGIN:STANDARD
TZOFFSETFROM:+0000
TZOFFSETTO:+0000
TZNAME:UTC
DTSTART:20250101T000000
END:STANDARD
END:VTIMEZONE
BEGIN:VEVENT
DTSTART;TZID=America/Chicago:20260228T120000
DTEND;TZID=America/Chicago:20260228T160000
DTSTAMP:20260425T134542
CREATED:20251006T142352Z
LAST-MODIFIED:20251016T023155Z
UID:6000-1772280000-1772294400@healinghouseenergy.com
SUMMARY:Make Your Own Drum
DESCRIPTION:If you want to create your own sacred drum\, register with Wayne. You can call him at 612-770-9499 or email him at DRUMMAKER2@AOL.com. \nAll materials are included. \n13″ drum is $135 \n16″ drum is $160 \nSpace is limited\, so RSVP right away.
URL:https://healinghouseenergy.com/event/make-your-own-drum/
LOCATION:Healing House Energy Spa\, 10700 HWY 55\, Suite 245\, Plymouth\, 55441\, United States
CATEGORIES:Classes
ATTACH;FMTTYPE=image/png:https://healinghouseenergy.com/wp-content/uploads/2025/07/drumworkshop.png
END:VEVENT
BEGIN:VEVENT
DTSTART;TZID=UTC:20260130T180000
DTEND;TZID=UTC:20260130T190000
DTSTAMP:20260425T134542
CREATED:20260102T170708Z
LAST-MODIFIED:20260125T172324Z
UID:6494-1769796000-1769799600@healinghouseenergy.com
SUMMARY:Pendulum Making
DESCRIPTION:Tap into Your Inner Wisdom with a Sacred Tool You Make Yourself Are you curious about using a pendulum for divine guidance\, clarity\, and decision-making? Join us for a transformational Pendulum Workshop where you’ll not only create your own one-of-a-kind beaded pendulum—you’ll also learn how to cleanse\, program\, and activate it for sacred use….Tickets
URL:https://healinghouseenergy.com/event/pendulum-making/
LOCATION:Healing House Energy Spa\, 10700 HWY 55\, Suite 245\, Plymouth\, 55441\, United States
CATEGORIES:Classes
ATTACH;FMTTYPE=image/png:https://healinghouseenergy.com/wp-content/uploads/2025/05/Pendulum-Making-Workshop-e1765913258547.png
END:VEVENT
BEGIN:VEVENT
DTSTART;TZID=UTC:20260124T110000
DTEND;TZID=UTC:20260124T120000
DTSTAMP:20260425T134542
CREATED:20260102T171302Z
LAST-MODIFIED:20260102T171441Z
UID:6682-1769252400-1769256000@healinghouseenergy.com
SUMMARY:Oracle Reading Class
DESCRIPTION:Curious about oracle cards and eager to explore them in a relaxed\, supportive space? Join Sue Louiselle for a fun and open-hearted class where she’ll share her insights and skills with like-minded souls. Whether you’re brand new or already familiar with oracle cards\, you’re welcome here—no deck required! Sue will have plenty of cards available to borrow\, and you’re also encouraged to bring your own favorites. Come learn\, connect\, and discover what the cards have to say.
URL:https://healinghouseenergy.com/event/oracle-reading-class/
CATEGORIES:Classes
ATTACH;FMTTYPE=image/png:https://healinghouseenergy.com/wp-content/uploads/2026/01/Learn-to-read-oracle-cards-with-Sue.png
END:VEVENT
BEGIN:VEVENT
DTSTART;TZID=America/Chicago:20260114T183000
DTEND;TZID=America/Chicago:20260114T213000
DTSTAMP:20260425T134542
CREATED:20251028T164435Z
LAST-MODIFIED:20260102T172809Z
UID:6038-1768415400-1768426200@healinghouseenergy.com
SUMMARY:Family Constellations: Moving from Fear to Love - Flow into New Life
DESCRIPTION:Tickets Available. \nFear keeps us blocked from the new life always available to us.\nIn constellations we look at family and systemic entanglements that keep us shackled to “blind love” – repetitive\, self-defeating patterns that confine us to searching but never finding. – repeating the same often painful dynamics in relationships\, and longing for but not meeting our essential self. In constellations\, we create sacred containers where old\, often transgenerational\, patterns can come to light and be healed. As we remove these blocks\, we are aware that love starts to more freely flow within us and between us\, helping heal illnesses\, repair relationships\, see and release trauma\, bring aliveness back\, and sometimes touch our very soul.\nIt is when we do these things that we come to feel a deep life welling up from inside us; something that sustains us and brings joy – as well as grief\, when warranted – and helps us truly know ourselves\, and make our way more resiliently even through trying times. \nIn these evening workshops\, participants will have an opportunity to \n\nreceive personal constellations\nrepresent in the constellations of others\nthrough representing\, increase their ability to perceive energy\, a useful tool in its own right\nbegin to create a sacred community with other like-minded souls and seekers\n\nCarey Meyer (New Energy Constellations LLC) From a young age Carey knew there was more to life than meets the eye and began sensing into the unseen energies that surround us. Over the past two decades\, she has explored and trained in many energetic healing modalities including meditation\, Reiki\, Qigong\, EFT tapping\, intuitive drawing\, spiritual writing\, and biofield tuning. A wife\, mother of three adult children\, and former attorney\, Carey blends knowledge from her life experiences to offer a grounded\, nurturing space for growth\, healing\, and self-discovery through constellations facilitation \n 
URL:https://healinghouseenergy.com/event/family-constellations-moving-from-fear-to-love-flow-into-new-life/
LOCATION:Healing House Energy Spa\, 10700 HWY 55\, Suite 245\, Plymouth\, 55441\, United States
CATEGORIES:Events
ATTACH;FMTTYPE=image/jpeg:https://healinghouseenergy.com/wp-content/uploads/2025/10/constellations.jpg
END:VEVENT
END:VCALENDAR