BEGIN:VCALENDAR
VERSION:2.0
PRODID:-//Healing House Energy Spa - ECPv6.15.20//NONSGML v1.0//EN
CALSCALE:GREGORIAN
METHOD:PUBLISH
X-WR-CALNAME:Healing House Energy Spa
X-ORIGINAL-URL:https://healinghouseenergy.com
X-WR-CALDESC:Events for Healing House Energy Spa
REFRESH-INTERVAL;VALUE=DURATION:PT1H
X-Robots-Tag:noindex
X-PUBLISHED-TTL:PT1H
BEGIN:VTIMEZONE
TZID:UTC
BEGIN:STANDARD
TZOFFSETFROM:+0000
TZOFFSETTO:+0000
TZNAME:UTC
DTSTART:20250101T000000
END:STANDARD
END:VTIMEZONE
BEGIN:VEVENT
DTSTART;TZID=UTC:20260410T180000
DTEND;TZID=UTC:20260410T190000
DTSTAMP:20260424T163218
CREATED:20260121T185334Z
LAST-MODIFIED:20260324T210309Z
UID:6700-1775844000-1775847600@healinghouseenergy.com
SUMMARY:Alchemist Hearth
DESCRIPTION:Bio Bridge to Wellness is proud to bring the Alchemist Hearth to Healing House Energy Spa. \nJoin us for a new monthly gathering for seekers of healing\, wisdom\, and connection. You are welcome exactly as you are — with your questions\, your experiences\, and your challenges. \nWe know you’re not looking for a “new you.”\nYou’re looking for a healed you. \nHealing is not one-size-fits-all. Each person’s journey is unique\, and there is no single path that works for everyone. Together\, we will explore the many pathways to healing and support you in discovering what resonates most deeply with your body\, mind\, and spirit. \nOur guide for this journey\, Patricia McHenry\, is a Reiki Body Intuitive with over 30 years of research and experience. She understands that as our bodies change\, our healing options must evolve as well. In this space\, you’ll find connection\, compassion\, and community — because healing happens best when we support one another. \nAt our first gathering\, we’ll introduce the Five Pillars Approach\, exploring the deeply interconnected nature of true wellness: \n\nPhysical health & fitness\nMindfulness\nNutrition\nSleep\nEmerging science-based options beyond conventional pharmaceutical models\n\nTogether\, let’s reconnect\, learn\, and begin healing the whole you — mind\, body\, and energy. \n  \nClass Cost: $20 \n  \nhttps://venmo.com/u/Mac-P2
URL:https://healinghouseenergy.com/event/alchemist-hearth/
LOCATION:Healing House Energy Spa\, 10700 HWY 55\, Suite 245\, Plymouth\, 55441\, United States
CATEGORIES:Events
ATTACH;FMTTYPE=image/png:https://healinghouseenergy.com/wp-content/uploads/2026/01/Alchemist-Hearth1.png
END:VEVENT
END:VCALENDAR